BEGIN:VCALENDAR
VERSION:2.0
PRODID:-//Wild Soul Firewalk - ECPv6.15.17//NONSGML v1.0//EN
CALSCALE:GREGORIAN
METHOD:PUBLISH
X-ORIGINAL-URL:https://wildsoulfirewalk.com
X-WR-CALDESC:Events for Wild Soul Firewalk
REFRESH-INTERVAL;VALUE=DURATION:PT1H
X-Robots-Tag:noindex
X-PUBLISHED-TTL:PT1H
BEGIN:VTIMEZONE
TZID:UTC
BEGIN:STANDARD
TZOFFSETFROM:+0000
TZOFFSETTO:+0000
TZNAME:UTC
DTSTART:20230101T000000
END:STANDARD
END:VTIMEZONE
BEGIN:VEVENT
DTSTART;TZID=UTC:20240425T173000
DTEND;TZID=UTC:20240430T130000
DTSTAMP:20260422T193609
CREATED:20231113T175620Z
LAST-MODIFIED:20231113T175624Z
UID:118-1714066200-1714482000@wildsoulfirewalk.com
SUMMARY:Firewalk Instructor Certification Training April 2024
DESCRIPTION:firewalk instructor certification training\n						\n						The Wild Souled Way \n						Reserve your place\n					\n				\n					\n				\n				\n				\n			\n				\n				\n			\n				\n				\n				\n				\n				\n				\n				\n				\n				\n				\n				\n				\n				\n				\n				\n				\n				\n				Are you ready to step up and start changing lives?…\n			\n				\n				\n				\n				\n				starting with your own?\n			\n				\n				\n				\n				\n				Make this year the year you fully free your Wild Soul within Firewalk Instructor Certification Training\n			\n				\n				\n				\n				\n				\n			\n			\n				\n				\n				\n				\n			\n				\n				\n				\n				\n				\n				\n				\n				\n				\n				\n				\n			\n				\n				\n				\n				\n				\n			\n				\n				\n				\n				\n				\n				\n					\n					\n				\n				\n			\n			\n				\n				\n				\n				\n				\n				\n				\n				\n				\n				In 6 days learn everything you need to confidently incorporate firewalking into your own events and training. \nThe ancient art of Firewalking is an incredibly powerful metaphor that has the ability to be deeply impactful for all those involved. \nYou will walk away from this training with new dynamic tools to use for deep connection\, and transformation. \nAnd in the process of learning\, you will revolutionize the way you view yourself\, the world\, and your business. \n			\n			\n				\n				\n				\n				\n			\n				\n				\n			\n				\n				\n				\n				\n				\n				\n				\n				\n				\n				\n				\n				\n				\n				\n				\n				\n				\n				\n			\n				\n				\n				\n				\n				Join Us For This uniquely Transformational Firewalk Instructor Training\n			\n			\n				\n				\n				\n				\n			\n				\n				\n				\n				\n				\n				\n				\n				\n				\n				\n				\n					\n					\n						where\n						County Mayo\, Ireland\n					\n				\n			\n			\n				\n				\n				\n				\n				\n				\n				\n				\n				\n				\n					\n					\n						when\n						September 11th-16th 2024 \n					\n				\n			\n			\n				\n				\n				\n				\n				\n				\n				\n				\n				\n				\n					\n					\n						Investment\n						£2695 with Payment Plans available \n					\n				\n			\n			\n				\n				\n				\n				\n			\n				\n				\n				\n				\n				\n				\n			\n				\n				\n				\n				\n				\n				\n				\n				\n				\n				\ngot a question before you book? click through to arrange a time to speak with lottie\n			\n				BOOK A CALL\n			\n				\n				\n				\n				\n				\nwere you looking for us trainings? all the info is here\n			\n			\n				\n				\n				\n				\n				\n			\n				\n				\n				\n				\n			\n				\n				\n			\n				\n				\n				\n				\n				\n				\n				\n				\n				\n				\n				\n				\n				\n				\n				\n				\n				\n				You Will Not Find Anything Like The Experience Of Training as a firewalk instructor With Us Elsewhere\n			\n				\n				\n				\n				\n				\n			\n				\n				\n				\n				\n				\n			\n			\n				\n				\n				\n				\n			\n				\n				\n				\n				\n				\n				\n				\n				\n				\n				\n				\n			\n			\n				\n				\n				\n				\n				\n				\n				\n				\n				\n				Lottie:  Your training will be delivered by Lottie Moore\, Internationally acclaimed Wild Soul Guide. As a  SUNDOOR Certifying Firewalk Instructor Trainer\,  she will take you on an adventure of a lifetime. \nOne that can lead to more bookings\, more client success\, and more insight as you learn how these incredible metaphors will serve you. \nBenefit fully from her many years of experience leading others through reconnection and breakthrough.  This training is guaranteed to raise your understanding of the world\, along with your impact\, and influence on it.\n			\n				\n				\n				\n				\n				Certification:  Certification for this Firewalk Instructor Training and Breakthrough Empowerment Coach course also includes SUNDOOR. \nCertifying you in the lineage of Peggy Dylan\, the Mother of the modern Firewalk movement.  This gives you authority in the field right from your very first event. \nCommunity:  Graduates of our training join a community of fire starters around the world in our exclusive graduate forums. \nOur Current Ireland Venue:  Our current venue in Ireland is a captivating mix of Hobbit Holes and small lodges. We are able to enjoy a rural setting on Celtic land where magic abounds\, whilst still having good quality beds\, bathrooms\, and mod-cons. \nWe particularly recommend the Sauna and Hot Tub to relax and have time to process your journey with us. Reconnection with this sacred land creates a bliss-filled experience of wonder for you as you learn. \n			\n			\n				\n				\n				\n				\n			\n				\n				\n			\n				\n				\n				\n				\n				\n				\n				\n				\n				\n			\n				\n				\n				\n				\n				\n				\n				\n				\n				\n				\n				\n				\n				\n			\n				\n				\n				\n				\n			\n				\n				\n				\n				\n				\n				\n				\n				\n				\n				\n				\n			\n				\n				\n				\n				\n				What others say about firewalk instructor training with lottie\n			\n			\n				\n				\n				\n				\n			\n				\n				\n				\n				\n				\n				\n				\n				\n				\n				\n				\n				\n					It’s almost impossible to put this training into words if you’re thinking about it\, even for a moment\, then don’t hesitate. \nLottie holds such a beautiful space for you to learn\, and enjoy. It’s fun\, it’s exciting\, it’s frightening\, and it’s beautiful.\n					Robert Stephenson\n					Fan The Flames Coaching \n				\n			\n				\n				\n				\n				\n				\n				\n					I had such an amazing experience in Ireland  \nI’d love to repeat it.\n					Helen O'sullivan\n					Helen O'sullivan \n				\n			\n			\n				\n				\n				\n				\n				\n				\n				\n				\n				\n				\n				\n					It was such an honour for me to be a part of this journey. I would never imagine this training would have so much power. \nI have shivers thinking about it\, and love everyone involved deep in my heart.\n					Kriss Em\n					Shamanic Practitioner \n				\n			\n				\n				\n				\n				\n				\n				\n					Lottie!!!\nThank you so much for knowing your calling and sharing it with others. Inspired\, excited\, ignited! \nYour medicine is a catalyst\, and potent.\n					Treeka Amanita\n					Treeka Amanita \n				\n			\n			\n				\n				\n				\n				\n				\n				\n				\n				\n				\n				\n				\n					It’s been the most empowering course I’ve taken in a really long time. \nI never thought I could feel this transformed in such a short space of time.\n					Kiki Mason\n					Ombodied Wellness \n				\n			\n				\n				\n				\n				\n				\n				\n					I highly recommend Firewalk Instructor Training with Lottie if you’re looking to achieve a new level \nAs an experienced coach training with Lottie punctuated a new chapter and repositioned me as a coach who definitely knows their stuff.\n					Marie J Taylor\n					Urban Earth Mother \n				\n			\n			\n				\n				\n				\n				\n			\n				\n				\n			\n				\n				\n				\n				\n				\n				\n				\n				\n				\n				\n				\n				\n				\n				\n				\n				\n				\n				Save Your Space \n\nIf you’re ready to say YES to this once-in-a-lifetime opportunity book your place now  for your chance to join us and become Certified as a Firewalk Instructor – let’s work together to make this happen for you! The time you spend with us will not only transform your clients but transform your holistic practitioner and coaching career\, as well as the way you view what you can create for yourself. Forever. \n  \n			\n				BOOK NOW\n			\n			\n				\n				\n				\n				\n			\n				\n				\n				\n				\n				\n				\n			\n				\n				\n				\n				\n				\n				\n				\n				\n				\n				PS If you’re already a qualified Firewalk Instructor\, take a look at the FAQ at the bottom \n\n  \n  \n			\n			\n				\n				\n				\n				\n				\n			\n				\n				\n				\n				\n			\n				\n				\n			\n				\n				\n				\n				\n				\n				\n				\n				\n				\n				\n				\n				\n				\n				\n				\n				\n				\n				Imagine…\n			\n			\n				\n				\n				\n				\n			\n				\n				\n				\n				\n				\n				\n				\n				\n				\n				\n				\n			\n				\n				\n				\n				\n				…gaining the qualifications and confidence to enable you to soar in your business.\n			\n			\n				\n				\n				\n				\n				\n				\n				\n				\n				\n				\n			\n				\n				\n				\n				\n				…having access to an International array of experts in their field.\n			\n			\n				\n				\n				\n				\n				\n				\n				\n				\n				\n				\n			\n				\n				\n				\n				\n				…doing a job that you actually love\, it honestly doesn’t feel like work.\n			\n			\n				\n				\n				\n				\n			\n				\n				\n				\n				\n				\n				\n				\n				\n				\n				\n				Our courses offer you the opportunity to create the life you’ve dreamed of in a fully nurtured environment. \nEquipping you with the skillset you need to get out there\, doing what you love. \nWE ARE COMMITTED TO CREATING A SAFE\, NON-DOGMATIC\, SPACE OF CULTURAL WELLNESS\, WHERE EACH INDIVIDUAL IS HONOURED & ENCOURAGED.  \nWith all of our Certification courses\, qualifying isn’t the end of the journey\, it’s just the beginning of the next adventure ~ an adventure we’d like to take by your side. \n			\n			\n				\n				\n				\n				\n			\n				\n				\n			\n				\n				\n				\n				\n				\n				\n				\n				\n				\n				\n				\n				\n				\n				\n				\n				\n				\n				\n			\n			\n				\n				\n				\n				\n			\n				\n				\n			\n				\n				\n				\n				\n				\n				\n				\n				\n				\n				\n				\n				\n				\n				\n				\n				\n				\n				\n			\n				\n				\n				\n				\n				you will become certified in…\n			\n				\n				\n				\n				\n				\n					\n					\n						All styles of fire walking\n						We are experienced in leading all styles of Fire Walking\, and will be passing on our expertise to you. Including – Spiritual Firewalk\, Empowerment Firewalk\, Fire Walking with children\, and Fire Dance. \nOur training covers everything from types of wood\, building a fire\, preparing the coal beds\, raking\, tending fires\, and protecting the ground\, to firewalk safety\, presentation skills\, and workshop timing – \n We will give you as much personal experience with the fire as possible\, and guide you through the process of becoming the best equipped\, confident\, capable and inspiring Firewalk Instructor you can be!\n					\n				\n			\n			\n				\n				\n				\n				\n			\n				\n				\n				\n				\n				\n				\n				\n				\n				\n				\n				\n					\n					\n						Glasswalking\n						Glass walking is an incredibly powerful metaphor\, taking you deep into the heart of mindful practice. You’ve heard clients talk about “walking on eggshells” to describe the fragility of some relationships. Glass walking empowers your client to be in the moment\, to feel and then to adjust and move on. Something that they *know* they should do\, but are stuck on. Glass walking is fully transportable\, enabling you to work 1-2-1 or with a group to overcome hidden fears and deeper issues around the world.\n					\n				\n			\n			\n				\n				\n				\n				\n				\n				\n				\n				\n				\n				\n					\n					\n						Board breaking\n						As any high level martial artist will tell you – board breaking is an instant mindset win. You instantly refire your neural pathways for success. This powerful metaphor leaves the client feeling incredible as they realise they can break their limiting beliefs. Board breaking is a powerful way to free your clients from their past to achieve their goals.\n					\n				\n			\n			\n				\n				\n				\n				\n				\n				\n				\n				\n				\n				\n					\n					\n						Arrow breaking\n						If your client can’t get out of their own way then Arrow Breaking is perfect. To place an arrow at the base of your throat and then break it means opening up to your vulnerabilities. Within minutes your clients will break free of the negative mindset and self-sabotaging behaviours. Arrow breaking is about emotional responses and you won’t be surprised when your clients want to keep their arrow heads as a symbol of their success!\n					\n				\n			\n			\n				\n				\n				\n				\n			\n				\n				\n				\n				\n				\n				\n				\n				\n				\n				\n				\n			\n				\n				\n				\n				\n				\n					1\n					\n						Additional high impact breakthrough activities\n						We don’t want to give everything away too soon… but you’ll be leaving with a massive toolkit of activities you can use in either individual or group work\, to enable you to get the results you only dream of\, for your clients and your business.\n					\n				\n			\n			\n				\n				\n				\n				\n			\n				\n				\n				\n				\n				\n				\n				BOOK NOW\n			\n			\n				\n				\n				\n				\n			\n				\n				\n			\n				\n				\n				\n				\n				\n				\n				\n				\n				\n				\n				\n				\n				\n				\n				\n				\n				\n				\n			\n			\n				\n				\n				\n				\n			\n				\n				\n			\n				\n				\n				\n				\n				\n				\n				\n				\n				\n				\n				\n				\n				\n			\n				\n				\n				\n				\n			\n				\n				\n				\n				\n				\n				\n				\n				\n				\n				\n				\n			\n				\n				\n				\n				\n				\n			\n				\n				\n				\n				\n				What others say about Lottie\n			\n			\n				\n				\n				\n				\n			\n				\n				\n				\n				\n				\n				\n				\n				\n				\n				\n				\n				\n					I Came Away Feeling Like A Warrior Queen\nIf you are looking for transformational self discovery and empowerment\, then Lottie is your woman!\n					Esther Nagle\n					Balance and Breathe \n				\n			\n				\n				\n				\n				\n				\n				\n					Genuinely one of the best courses \nGenuinely one of the best courses I’ve attended in years and all down to the professionalism and personalities of you both\n					Kat Beaver\n					British Army \n				\n			\n			\n				\n				\n				\n				\n				\n				\n				\n				\n				\n				\n				\n					Lottie offers exceptional training and mindset coaching \nwhich allows you to step out of your comfort zone and realise your power and potential. You are in very safe hands.\n					Jo Baldwin-Trott\n					Jo Baldwin-Trott - Image Branding Consultant \n				\n			\n				\n				\n				\n				\n				\n				\n					Lottie changed my life\nI did the impossible.  Broke barriers\, reframed\, let go… \nHow many people do you know that can make that happen?  Lottie can.\n					Martin Seville\n					Empathy Coaching \n				\n			\n			\n				\n				\n				\n				\n				\n				\n				\n				\n				\n				\n				\n					Totally beat my Tony Robbins Firewalk hands down\nLottie delivered the preparation for the group effortlessly ~ supportive\, fun\, engaging\, and informative.  The firewalk was something else.\n					Laura Evans\n					Unleash Your Potential \n				\n			\n				\n				\n				\n				\n				\n				\n					The training content was outstanding \nthe tools\, the skills\, the space to reflect and work as a team. And have fun.\n					Training participant\n					Ministry of Defence \n				\n			\n			\n				\n				\n				\n				\n			\n				\n				\n			\n				\n				\n				\n				\n				\n				\n				\n				\n				\n				\n				\n				\n				\n				\n				\n				\n				\n				ready to get started?\nclick through to start your Firewalk instructor training wild souled adventure\n \n			\n				\n				\n				\n				\n				\n			\n				\n				\n				\n				\n				\n			\n			\n				\n				\n				\n				\n			\n				\n				\n			\n				\n				\n				\n				\n				\n				\n				\n				\n				\n				\n				\n				\n				\n				SEIZE THE DAY\n			\n			\n				\n				\n				\n				\n			\n				\n				\n			\n				\n				\n				\n				\n				\n				\n				\n				\n				\n				\n				\n				\n				\n				\n				\n				\n				\n				\n			\n			\n				\n				\n				\n				\n			\n				\n				\n				\n				\n				\n				\n				\n				\n				\n				\n				while similar courses will have you carry out an activity once\, then tell you that you are qualified to lead others through it\, we will ensure you have all the input and support you need to be qualified\, competent\, confident\, and legal to take these activities forward with your clients.\nnot just with this live training but throughout the whole holistic growth program we’re dedicated to supporting you make it happen\n \n			\n				\n				\n				\n				\n				\n					\n					\n						step 1\n						take part in the activity yourself\nWhether you’ve done it before\, or this is your first time\, we’ll guide you through your fear to enable you to take part in each activity yourself.. \nThere may be a few sweaty palms\, and racing pulses in the room\, but this is your chance to experience each activity as your client might.\n					\n				\n			\n				\n				\n				\n				\n				\n					\n					\n						step 2\n						practice leading the activity with others\nWith our expert support and mentoring\, you’ll have as much time and opportunity as you need to practice leading each activity to get you to a place of confidence to take these forward in your own work. \nThis is your chance to perfect your patter\, and find out what works (and what doesn’t)\, long before you take these activities before the public.\n					\n				\n			\n				\n				\n				\n				\n				\n					\n					\n						step 3\n						guidance for practical application\nWhich is the best metaphor for which occasion? And what is the best way to present it to be most impactful for different groups? \nWe’ll make sure you have all the answers to enable you to plan your own events with confidence and ease.\n					\n				\n			\n				\n				\n				\n				\n				\n					\n					\n						step 4\n						legals and documentation\nWe’ll make sure you’re really clear about what’s legal\, how to get insured\, and what’s best practice. \nThis will then all be added to your personal online resource library which\, along with a plethora of other information\, you can refer back to as often as you like.\n					\n				\n			\n				RESERVE YOUR SPACE\n			\n			\n				\n				\n				\n				\n			\n				\n				\n			\n				\n				\n				\n				\n				\n				\n				\n				\n				\n				\n				\n				\n				\n				\n				\n				\n				\n				\n					\n					\n						OUR TRAINING IS THE ONLY PLACE YOU'LL FIND THIS LEVEL OF SUPPORT TO GROWING YOUR WILD SOULED HOLISTIC BUSINESS AND YOUR RELATIONSHIP WITH THE FIRE through marketing growth\, personal growth\, and impact growth... as well as gaining FREE access to the Wild Soul Fire Tribe\, taking you deeper into the dance of the fire\n						\n					\n				\n			\n				\n				\n				\n				\n				\n				\n					Access to our incredible resource library. You’ll need information about insurance and other things after you’ve trained as a Firewalk Instructor and Breakthrough Empowerment Coach\, as well as help getting all the resources in place to super-grow your Holistic Business.\n					Included for you\n					 \n				\n			\n				\n				\n				\n				\n				\n				\n					1-to-1 call with Lottie\, before and after the training \n1-to-1 mentoring for your first firewalk \nEXCLUSIVE training from marketing and spiritual international leaders in their field\n					Included for you\n					 \n				\n			\n				\n				\n				\n				\n				\n				\n					FULL FOCUS on your skills leading to your success\, in all areas of your business\n					Included for you\n					 \n				\n			\n			\n				\n				\n				\n				\n			\n				\n				\n				\n				\n				\n				\n				\n				\n				\n				\n				\n			\n				\n				\n				\n				\n				\n			\n				\n				\n				\n				\n				These Firewalk Instructor Certification Trainings are intimate spaces where Lottie dedicates time and attention to each individual participant.\nThis means places are highly limited\, to avoid disappointment make sure you take the next step today…\n			\n				GET BOOKED IN\n			\n			\n				\n				\n				\n				\n			\n				\n				\n			\n				\n				\n				\n				\n				\n				\n				\n				\n				\n				\n				\n				\n				\n			\n				\n				\n				\n				\n				\n				\n				\n				\n				\n				\n			\n			\n				\n				\n				\n				\n				\n			\n				\n				\n				\n				\n			\n				\n				\n			\n				\n				\n				\n				\n				\n				\n				\n				\n				\n				\n				\n				\n				\n				\n				\n				\n				\n				Frequently Asked Questions\n			\n				\n				\n				\n				\n				i am a qualified firewalk instructor\, will this be a good course for me?\n				As Firewalk Instructors\, we all love to step into the incredible energy of the Fire whenever we can\, and have the opportunity to ‘come play’ when we are not holding the Firewalk ourselves. \nAll previously qualified Firewalk Instructors are welcome at this course\, and have so much to gain from learning from a Firewalker with such International experience – learning from Lottie’s knowledge and passion for the fire is not to be missed. \nPricing is 50% reduced for any instructors certified by other Firewalking schools\, or just £1000/$1100 for SUNDOOR Certified Instructors. \nIf you’re looking to step into Spiritual Leadership\, Lottie also offers the Wild Soul Spreacha (Irish for sparks) Program which runs alongside the Certification course\, followed up with 1-to-1 online sessions. \nBOOK A QUICK CALL WITH LOTTIE TO FIND OUT MORE ABOUT YOUR OPTIONS. \n			\n				\n				\n				\n				\n				do i have to LIVE IRELAND TO ATTEND THIS COURSE?\n				Nope. \nLottie has people from all over the World attend her trainings in Ireland\, so wherever you find yourself\, you are very welcome. \nLearning from a teacher with such extensive knowledge and experience may call out to people wanting to go deeper in their work with the elements\, wherever they are. \n			\n				\n				\n				\n				\n				How much does this training cost?\n				The training is currently $3500/£2695 per person\, or $5150/£4000 for two. \nWe are happy to offer payment plans if required\, so do reach out if this training is calling to you. \nThe training also covers how to price your own firewalking events to assist you in making a return on your financial investment as quickly as possible. \n			\n				\n				\n				\n				\n				when will i have my 1-to-1 with lottie?\n				Once your full payment is received you’ll be sent a link to Lottie’s online diary booker\, where you can choose a time that works for you\, whatever your time zone. \nYour mentoring for your first Firewalk will be over WhatsApp throughout your preparation period. \n			\n				\n				\n				\n				\n				How will i access the online material?\n				All your material will be fully accessible from any device that can access the internet. \nYou’ll receive the sign-up for this AFTER your live training\, so it’s in place to support you as you move forward. \n			\n				\n				\n				\n				\n				im still not sure\, can we have a quick chat?\n				Yep! \nYou can go ahead and book yourself a time that works for you here. \nHowever\, we cannot guarantee a place until your first payment is received\, and as you can imagine\, places book out fast\, so if you know you want to come\, but just want to get some extra details confirmed\, book your place now and we can still run through any questions you have on a call afterwards. \n			\n			\n				\n				\n				\n				\n			\n				\n				\n			 \nLottieUnpacking the re-membering of land\, lineage and the fire inside\, Lottie is the founder at the Wild Soul Tribe. \nLottie believes in walking the path less travels\, which has taken her from living in Burkina Faso\, to trekking some of the biggest mountains in the world. \nNow growing within her Irish heritage\, Lottie supports others to experience a little adventure AND inner peace. Find out a little more of what she gets up to\, alongside firewalking\, over at the Wild Soul Tribe site.
URL:https://wildsoulfirewalk.com/event/firewalk-instructor-certification-training-april-2024/
LOCATION:FL
CATEGORIES:Certification
ATTACH;FMTTYPE=image/png:https://wildsoulfirewalk.com/wp-content/uploads/2023/11/11E8DBA1-CBB9-4863-8D75-3CE612F26899.png
END:VEVENT
END:VCALENDAR